BEGIN:VCALENDAR
VERSION:2.0
PRODID:-//Spanning the Life Issues - ECPv6.15.20//NONSGML v1.0//EN
CALSCALE:GREGORIAN
METHOD:PUBLISH
X-ORIGINAL-URL:https://rtlstjoseph.com
X-WR-CALDESC:Events for Spanning the Life Issues
REFRESH-INTERVAL;VALUE=DURATION:PT1H
X-Robots-Tag:noindex
X-PUBLISHED-TTL:PT1H
BEGIN:VTIMEZONE
TZID:America/Halifax
BEGIN:DAYLIGHT
TZOFFSETFROM:-0400
TZOFFSETTO:-0300
TZNAME:ADT
DTSTART:20230312T060000
END:DAYLIGHT
BEGIN:STANDARD
TZOFFSETFROM:-0300
TZOFFSETTO:-0400
TZNAME:AST
DTSTART:20231105T050000
END:STANDARD
BEGIN:DAYLIGHT
TZOFFSETFROM:-0400
TZOFFSETTO:-0300
TZNAME:ADT
DTSTART:20240310T060000
END:DAYLIGHT
BEGIN:STANDARD
TZOFFSETFROM:-0300
TZOFFSETTO:-0400
TZNAME:AST
DTSTART:20241103T050000
END:STANDARD
BEGIN:DAYLIGHT
TZOFFSETFROM:-0400
TZOFFSETTO:-0300
TZNAME:ADT
DTSTART:20250309T060000
END:DAYLIGHT
BEGIN:STANDARD
TZOFFSETFROM:-0300
TZOFFSETTO:-0400
TZNAME:AST
DTSTART:20251102T050000
END:STANDARD
END:VTIMEZONE
BEGIN:VEVENT
DTSTART;TZID=America/Halifax:20240614T000000
DTEND;TZID=America/Halifax:20240615T235959
DTSTAMP:20260419T220636
CREATED:20240213T010554Z
LAST-MODIFIED:20260408T185322Z
UID:898-1718323200-1718495999@rtlstjoseph.com
SUMMARY:Water Festival 2024
DESCRIPTION:Come visit our table at Scidmore Park. \n\n\n\n\n\n\nSee this page for more information about the festival.
URL:https://rtlstjoseph.com/event/water-festival-2024/
LOCATION:Scidmore Park\, 112 Spring St\, Three Rivers\, MI 49093
CATEGORIES:Community Event,Past
ATTACH;FMTTYPE=image/jpeg:https://rtlstjoseph.com/wp-content/uploads/2023/06/Resized_20230616_131021.jpeg
END:VEVENT
END:VCALENDAR